BEGIN:VCALENDAR
VERSION:2.0
PRODID:-//Communications International - ECPv6.15.20//NONSGML v1.0//EN
CALSCALE:GREGORIAN
METHOD:PUBLISH
X-ORIGINAL-URL:https://www.ask4ci.com
X-WR-CALDESC:Events for Communications International
REFRESH-INTERVAL;VALUE=DURATION:PT1H
X-Robots-Tag:noindex
X-PUBLISHED-TTL:PT1H
BEGIN:VTIMEZONE
TZID:America/New_York
BEGIN:DAYLIGHT
TZOFFSETFROM:-0500
TZOFFSETTO:-0400
TZNAME:EDT
DTSTART:20240310T070000
END:DAYLIGHT
BEGIN:STANDARD
TZOFFSETFROM:-0400
TZOFFSETTO:-0500
TZNAME:EST
DTSTART:20241103T060000
END:STANDARD
BEGIN:DAYLIGHT
TZOFFSETFROM:-0500
TZOFFSETTO:-0400
TZNAME:EDT
DTSTART:20250309T070000
END:DAYLIGHT
BEGIN:STANDARD
TZOFFSETFROM:-0400
TZOFFSETTO:-0500
TZNAME:EST
DTSTART:20251102T060000
END:STANDARD
BEGIN:DAYLIGHT
TZOFFSETFROM:-0500
TZOFFSETTO:-0400
TZNAME:EDT
DTSTART:20260308T070000
END:DAYLIGHT
BEGIN:STANDARD
TZOFFSETFROM:-0400
TZOFFSETTO:-0500
TZNAME:EST
DTSTART:20261101T060000
END:STANDARD
END:VTIMEZONE
BEGIN:VEVENT
DTSTART;TZID=America/New_York:20251103T000000
DTEND;TZID=America/New_York:20251106T235959
DTSTAMP:20260423T043553
CREATED:20250919T201847Z
LAST-MODIFIED:20250919T201930Z
UID:2042-1762128000-1762473599@www.ask4ci.com
SUMMARY:77th Annual Florida Fire Prevention Conference 
DESCRIPTION:77th Annual Florida Fire Prevention Conference  \n\n\n\nNovember 3-6\, 2025  \n\n\n\nFort Lauderdale Marriott Coral Springs Hotel & Convention Center\,  \n\n\n\n11775 Heron Bay Boulevard\, Coral Springs\, Florida\, 33076 
URL:https://www.ask4ci.com/event/77th-annual-florida-fire-prevention-conference/
ATTACH;FMTTYPE=image/png:https://www.ask4ci.com/wp-content/uploads/2025/09/Fema.png
END:VEVENT
BEGIN:VEVENT
DTSTART;TZID=America/New_York:20251105T000000
DTEND;TZID=America/New_York:20251107T235959
DTSTAMP:20260423T043553
CREATED:20250919T202334Z
LAST-MODIFIED:20260106T202210Z
UID:2045-1762300800-1762559999@www.ask4ci.com
SUMMARY:2025 Georgia Association of Regional Commission’s (GARC) Annual Conference 
DESCRIPTION:2025 Georgia Association of Regional Commission’s (GARC) Annual Conference  \n\n\n\nNovember 5-7\, 2025  \n\n\n\nKing and Prince Resort on St. Simons Island  \n\n\n\n201 Arnold Rd\, St Simons Island\, GA 31522 
URL:https://www.ask4ci.com/event/2025-georgia-association-of-regional-commissions-garc-annual-conference/
ATTACH;FMTTYPE=image/png:https://www.ask4ci.com/wp-content/uploads/2025/09/Georgia.png
END:VEVENT
BEGIN:VEVENT
DTSTART;TZID=America/New_York:20251106T000000
DTEND;TZID=America/New_York:20251106T235959
DTSTAMP:20260423T043553
CREATED:20250919T202448Z
LAST-MODIFIED:20250919T202450Z
UID:2049-1762387200-1762473599@www.ask4ci.com
SUMMARY:Upper Cumberland 911 Directors Association Annual Dispatcher In-Service
DESCRIPTION:Upper Cumberland 911 Directors Association Annual Dispatcher In-Service  \n\n\n\nNovember 6\, 2025  \n\n\n\nPutnam County Event Center\, 2121 Tennessee Ave\, Cookeville 
URL:https://www.ask4ci.com/event/upper-cumberland-911-directors-association-annual-dispatcher-in-service/
ATTACH;FMTTYPE=image/png:https://www.ask4ci.com/wp-content/uploads/2025/09/Upper-Cumberland.png
END:VEVENT
BEGIN:VEVENT
DTSTART;TZID=America/New_York:20251107T000000
DTEND;TZID=America/New_York:20251108T235959
DTSTAMP:20260423T043553
CREATED:20250919T202551Z
LAST-MODIFIED:20260106T202056Z
UID:2051-1762473600-1762646399@www.ask4ci.com
SUMMARY:Alabama Association of Rescue Squads\, Inc. 
DESCRIPTION:Alabama Association of Rescue Squads\, Inc.  \n\n\n\nNovember 7-8\, 2028  \n\n\n\nOrange Beach Event Center  \n\n\n\n4674 Wharf Parkway\, Orange Beach\, Alabama 36561 
URL:https://www.ask4ci.com/event/alabama-association-of-rescue-squads-inc/
ATTACH;FMTTYPE=image/png:https://www.ask4ci.com/wp-content/uploads/2025/09/alabama.png
END:VEVENT
BEGIN:VEVENT
DTSTART;TZID=America/New_York:20251112T000000
DTEND;TZID=America/New_York:20251114T235959
DTSTAMP:20260423T043553
CREATED:20250728T154802Z
LAST-MODIFIED:20260106T202047Z
UID:2019-1762905600-1763164799@www.ask4ci.com
SUMMARY:2025 KACo Annual Conference & Exposition
DESCRIPTION:2025 KACo Annual Conference & ExpositionNov. 12 – 14\, 2025Galt House HotelLouisville\, KY
URL:https://www.ask4ci.com/event/2025-kaco-annual-conference-exposition/
LOCATION:140 N Fourth St\, Louisville\, KY 40202\, 140 N Fourth St\, Louisville\, Kentucky\, 40202\, United States
ATTACH;FMTTYPE=image/jpeg:https://www.ask4ci.com/wp-content/uploads/2025/07/KACO-logo.jpg
END:VEVENT
BEGIN:VEVENT
DTSTART;TZID=America/New_York:20251116T000000
DTEND;TZID=America/New_York:20251119T235959
DTSTAMP:20260423T043553
CREATED:20250919T202651Z
LAST-MODIFIED:20260106T202031Z
UID:2053-1763251200-1763596799@www.ask4ci.com
SUMMARY:2025 Fall Conference and the 67th Annual Business Meeting of the Emergency Management
DESCRIPTION:2025 Fall Conference and the 67th Annual Business Meeting of the Emergency Management Association of Georgia (EMAG  \n\n\n\nNovember 16-19\, 2025  \n\n\n\nBrasstown Valley Resort  \n\n\n\n6321 US-76\, Young Harris\, GA 30582 
URL:https://www.ask4ci.com/event/2025-fall-conference-and-the-67th-annual-business-meeting-of-the-emergency-management/
ATTACH;FMTTYPE=image/png:https://www.ask4ci.com/wp-content/uploads/2025/09/EMAG.png
END:VEVENT
BEGIN:VEVENT
DTSTART;TZID=America/New_York:20251205T000000
DTEND;TZID=America/New_York:20251205T235959
DTSTAMP:20260423T043553
CREATED:20250919T202740Z
LAST-MODIFIED:20260106T202012Z
UID:2055-1764892800-1764979199@www.ask4ci.com
SUMMARY:GMRC Annual Meeting and Awards Dinner 
DESCRIPTION:GMRC Annual Meeting and Awards Dinner  \n\n\n\nFriday\, December 5th\, 2025  \n\n\n\nThe Boathouse at Lake Lanier Olympic Park  \n\n\n\n3105 Clarks Bridge Road\, Gainesville\, GA  30506 
URL:https://www.ask4ci.com/event/gmrc-annual-meeting-and-awards-dinner/
ATTACH;FMTTYPE=image/png:https://www.ask4ci.com/wp-content/uploads/2025/09/georgia-Mountains.png
END:VEVENT
END:VCALENDAR